BEGIN:VCALENDAR
VERSION:2.0
PRODID:-//LIIGH - International Laboratory for Human Genome Research - ECPv5.3.1.1//NONSGML v1.0//EN
CALSCALE:GREGORIAN
METHOD:PUBLISH
X-WR-CALNAME:LIIGH - International Laboratory for Human Genome Research
X-ORIGINAL-URL:https://liigh.unam.mx
X-WR-CALDESC:Eventos para LIIGH - International Laboratory for Human Genome Research
BEGIN:VTIMEZONE
TZID:America/Chicago
BEGIN:DAYLIGHT
TZOFFSETFROM:-0600
TZOFFSETTO:-0500
TZNAME:CDT
DTSTART:20160313T080000
END:DAYLIGHT
BEGIN:STANDARD
TZOFFSETFROM:-0500
TZOFFSETTO:-0600
TZNAME:CST
DTSTART:20161106T070000
END:STANDARD
END:VTIMEZONE
BEGIN:VEVENT
DTSTART;TZID=America/Chicago:20161024T110000
DTEND;TZID=America/Chicago:20161025T100000
DTSTAMP:20260421T232625
CREATED:20161010T030322Z
LAST-MODIFIED:20171216T011923Z
UID:1353-1477306800-1477389600@liigh.unam.mx
SUMMARY:Dr. Bernard Dujon - Chromosomal alterations in evolutionary experiments with the yeast Saccharomyces cerevisiae
DESCRIPTION:Institut Pasteur
URL:https://liigh.unam.mx/event/dr-bernard-dujon/
LOCATION:LIIGH – UNAM\, Blvd. Juriquilla 3001\, Querétaro\, Querétaro\, 76230\, Mexico
CATEGORIES:Visiting Professors Program
ATTACH;FMTTYPE=image/jpeg:https://liigh.unam.mx/wp-content/uploads/2016/10/Bernard_Dujon.jpg
END:VEVENT
END:VCALENDAR